BEGIN:VCALENDAR
VERSION:2.0
PRODID:-//hacksw/handcal//NONSGML v1.0//EN
BEGIN:VEVENT
SUMMARY:Sentier des pigeonniers carmausins au Pays de Cocagne
UID:4e617410-ac53-4dbe-9ef3-7e7287becb3b
DTSTART:20260624T220000Z
DTEND:20260625T220000Z
LOCATION:Localisation  81400 LABASTIDE GABAUSSE
CATEGORIES:Sportif
STATUS:
DESCRIPTION:<p>INFO RANDONNEE : MOYENNE -  IBP 47  <a
 href="https://www.visorando.com/randonnee-pigeonniers-carmausins-au-pays-de-cocagn/"
 target="_blank" rel="noreferrer noopener">🥾🥾</a>  
  Accompagnateurs : Didier & Lucie<br>
 Reference randonnee :
 visorando 31298492   Sens de la randonnee : indifferent<br>
 Distance
 : 10,2 km   Denivele : 240 m</p>
 
 <p>INFO PRATIQUES : Depart de St
 Jean : 08h 00      RdV sur site : 09h 10  </p>
 
 <p>Parking : MJC
 Labastide Haute, route de la Pelegrinie <br>
 Trajet depuis St Jean :
 75 km, Temps estime : 1 h 10 mn, Cout par voiture hors peage : 45
 € </p>
 
 <p> </p>
URL;VALUE=URI:https://galopinsrandonneurs.sportsregions.fr/evenements/2026/06/25/sentier-des-pigeonniers-carmausins-au-pays-de-cocagne-2277602
END:VEVENT
END:VCALENDAR
