BEGIN:VCALENDAR
VERSION:2.0
PRODID:-//hacksw/handcal//NONSGML v1.0//EN
BEGIN:VEVENT
SUMMARY:St Antonin-Montpalach
UID:b307d3f4-7cd2-4a83-b795-6b1d8bb709ac
DTSTART:20260615T220000Z
DTEND:20260616T220000Z
LOCATION:Localisation  82140 SAINT ANTONIN NOBLE VAL
CATEGORIES:Sportif
STATUS:
DESCRIPTION:<p>INFO RANDONNEE : MOYENNE +  IBP  53   <a
 href="https://www.openrunner.com/route-details/3447019"
 target="_blank" rel="noreferrer noopener">🥾🥾🥾</a> 
  Accompagnateurs : Herve & Marc<br>
 Reference randonnee :  Open
 runner 3447019   Sens de la randonnee : horaire<br>
 Distance : 16,9
 km   Denivele : 272 m</p>
 
 <p>INFO PRATIQUES : Depart de St Jean :
 07h 30      RdV sur site : 08h 50     Parking : Parking  av.
 Paul Benet <br>
 Trajet depuis St Jean : 92 km, Temps estime : 1 h 20
 mn, Cout par voiture hors peage : 55 € </p>
 
 <p> </p>
URL;VALUE=URI:https://galopinsrandonneurs.sportsregions.fr/evenements/2026/06/16/st-antonin-montpalach-2277601
END:VEVENT
END:VCALENDAR
