BEGIN:VCALENDAR
VERSION:2.0
PRODID:-//hacksw/handcal//NONSGML v1.0//EN
BEGIN:VEVENT
SUMMARY:La Montagne Noire par Cubservies
UID:1f347bbf-3c87-40d0-b3af-2ec303dc19d4
DTSTART:20260610T220000Z
DTEND:20260611T220000Z
LOCATION:Localisation  11319 ROQUEFERE
CATEGORIES:Sportif
STATUS:
DESCRIPTION:<p>INFO RANDONNEE : DIFFICILE  IBP  76  <a
 href="https://www.visorando.com/randonnee-la-montagne-noire-par-cubservies/"
 target="_blank" rel="noreferrer noopener">🥾🥾🥾🥾</a>  
  Accompagnateurs : Ghyslaine & jean louis<br>
 Reference randonnee :
 Visorando 29607 Open runer 20960696  </p>
 
 <p>Sens de la randonnee
 : horaire    Distance : 16 km   Denivele : 650 m</p>
 
 <p>INFO
 PRATIQUES : Depart de St Jean : 07h 30      RdV sur site : 09h
 30   </p>
 
 <p>Parking : Parking des randonneurs a l’entree de
 Roquefere sur D9 <br>
 Trajet depuis St Jean: 105 km, Temps estime 
 2 h, Cout par voiture hors peage: 63€ </p>
 
 <p> </p>
URL;VALUE=URI:https://galopinsrandonneurs.sportsregions.fr/evenements/2026/06/11/la-montagne-noire-par-cubservies-2274849
END:VEVENT
END:VCALENDAR
